BEGIN:VCALENDAR
VERSION:2.0
PRODID:-//Fassmer Performance Marine - ECPv6.9.0//NONSGML v1.0//EN
CALSCALE:GREGORIAN
METHOD:PUBLISH
X-WR-CALNAME:Fassmer Performance Marine
X-ORIGINAL-URL:https://fassmerperformancemarine.com
X-WR-CALDESC:Events for Fassmer Performance Marine
REFRESH-INTERVAL;VALUE=DURATION:PT1H
X-Robots-Tag:noindex
X-PUBLISHED-TTL:PT1H
BEGIN:VTIMEZONE
TZID:UTC
BEGIN:STANDARD
TZOFFSETFROM:+0000
TZOFFSETTO:+0000
TZNAME:UTC
DTSTART:20250101T000000
END:STANDARD
END:VTIMEZONE
BEGIN:VEVENT
DTSTART;TZID=UTC:20250116T173000
DTEND;TZID=UTC:20250116T193000
DTSTAMP:20260422T223424
CREATED:20250102T212209Z
LAST-MODIFIED:20250102T212349Z
UID:826-1737048600-1737055800@fassmerperformancemarine.com
SUMMARY:NY MARITIME ALUMNI NIGHT
DESCRIPTION:
URL:https://fassmerperformancemarine.com/event/ny-maritime-alumni-night/
LOCATION:FASSMER USA\, 3650 NW 15th St\, Lauderhill\, 33311\, United States
END:VEVENT
END:VCALENDAR